BEGIN:VCALENDAR
VERSION:2.0
PRODID:-//4 Lobos y 3000 Buitres - ECPv6.15.20//NONSGML v1.0//EN
CALSCALE:GREGORIAN
METHOD:PUBLISH
X-ORIGINAL-URL:https://4lobosy3000buitres.es
X-WR-CALDESC:Eventos para 4 Lobos y 3000 Buitres
REFRESH-INTERVAL;VALUE=DURATION:PT1H
X-Robots-Tag:noindex
X-PUBLISHED-TTL:PT1H
BEGIN:VTIMEZONE
TZID:UTC
BEGIN:STANDARD
TZOFFSETFROM:+0000
TZOFFSETTO:+0000
TZNAME:UTC
DTSTART:20240101T000000
END:STANDARD
END:VTIMEZONE
BEGIN:VEVENT
DTSTART;TZID=UTC:20250913T080000
DTEND;TZID=UTC:20260922T170000
DTSTAMP:20260419T224857
CREATED:20250913T120122Z
LAST-MODIFIED:20251028T144416Z
UID:1142-1757750400-1790096400@4lobosy3000buitres.es
SUMMARY:VIII EDICIÓN TRAIL Y CROSS NOCTURNO 2026
DESCRIPTION:La carrera se realizará el 27  de Junio de 2026\, a falta de su publicación  por la Federación en el Calendario Oficial
URL:https://4lobosy3000buitres.es/event/viii-edicion-trail-y-cross-nocturno
LOCATION:Serradilla\, Serradilla\, Serradilla\, Caceres\, 10530\, España
CATEGORIES:Carreras
END:VEVENT
END:VCALENDAR