BEGIN:VCALENDAR
VERSION:2.0
PRODID:-//4 Lobos y 3000 Buitres - ECPv6.15.20//NONSGML v1.0//EN
CALSCALE:GREGORIAN
METHOD:PUBLISH
X-ORIGINAL-URL:https://4lobosy3000buitres.es
X-WR-CALDESC:Eventos para 4 Lobos y 3000 Buitres
REFRESH-INTERVAL;VALUE=DURATION:PT1H
X-Robots-Tag:noindex
X-PUBLISHED-TTL:PT1H
BEGIN:VTIMEZONE
TZID:UTC
BEGIN:STANDARD
TZOFFSETFROM:+0000
TZOFFSETTO:+0000
TZNAME:UTC
DTSTART:20220101T000000
END:STANDARD
END:VTIMEZONE
BEGIN:VTIMEZONE
TZID:Europe/Paris
BEGIN:DAYLIGHT
TZOFFSETFROM:+0100
TZOFFSETTO:+0200
TZNAME:CEST
DTSTART:20220327T010000
END:DAYLIGHT
BEGIN:STANDARD
TZOFFSETFROM:+0200
TZOFFSETTO:+0100
TZNAME:CET
DTSTART:20221030T010000
END:STANDARD
BEGIN:DAYLIGHT
TZOFFSETFROM:+0100
TZOFFSETTO:+0200
TZNAME:CEST
DTSTART:20230326T010000
END:DAYLIGHT
BEGIN:STANDARD
TZOFFSETFROM:+0200
TZOFFSETTO:+0100
TZNAME:CET
DTSTART:20231029T010000
END:STANDARD
BEGIN:DAYLIGHT
TZOFFSETFROM:+0100
TZOFFSETTO:+0200
TZNAME:CEST
DTSTART:20240331T010000
END:DAYLIGHT
BEGIN:STANDARD
TZOFFSETFROM:+0200
TZOFFSETTO:+0100
TZNAME:CET
DTSTART:20241027T010000
END:STANDARD
END:VTIMEZONE
BEGIN:VEVENT
DTSTART;VALUE=DATE:20260126
DTEND;VALUE=DATE:20260224
DTSTAMP:20260419T154222
CREATED:20260203T105329Z
LAST-MODIFIED:20260203T174934Z
UID:16-1769385600-1771891199@4lobosy3000buitres.es
SUMMARY:San Silvestre Serradillana 2026
DESCRIPTION:La San Silvestre Serradillana 2026  se celebrará el  27-12-2026
URL:https://4lobosy3000buitres.es/event/ejemplo-carrera
LOCATION:Serradilla\, Serradilla\, Serradilla\, Caceres\, 10530\, España
CATEGORIES:Carreras
END:VEVENT
BEGIN:VEVENT
DTSTART;VALUE=DATE:20240622
DTEND;VALUE=DATE:20240623
DTSTAMP:20260419T154222
CREATED:20231222T095652Z
LAST-MODIFIED:20240621T164910Z
UID:870-1719014400-1719100799@4lobosy3000buitres.es
SUMMARY:VI TRAIL Y CROSS NOCTURNO 4 LOBOS Y 3000 BUITRES\, 22 DE JUNIO 2024
DESCRIPTION:Horarios de la prueba \n20:00 a 21:30 horas Recogida de dorsales\, en la Plaza de la Constitución de Serradilla \nA partir de las 21:30  Horas\, 30 minutos antes del comienzo de la prueba se establecerá «un corralito» donde se cotejarán  los dorsales y el material  obligatorio de los corredores participantes  que es el siguiente: \n1.- Zapatillas de trail con un perfil en los tacos óptimos para garantizar la seguridad del corredor \n2.-Silbato. \n3.-Manta térmica \n4.-Recipiente de agua portable \n5 Gorra o similar \n6. Frontal obligatorio \n22:00 horas Salida de la prueba \n23:52 horas llegada del primer participante \n01:15 Cierre de meta \n01:15 Entrega de trofeos \nImportante: CATEGORÌA INCLUSIVA: \n-Cuando en alguna categoría no se llegue a las cuatro inscripciones\, se añadirán a la categoría superior. \nINSCRIPCIONES:CERRADAS DESDE LAS 14 HORAS DEL DIA 19 \nREGLAMENTO: ABRIR \nTracks del Trail y Cross en Formato Kmz y GPX: TRAIL Y CROSS 2024 \n08-Mapa-Perfil Trail Nocturno2024 \n14-Mapa-Perfil Cross Nocturno2024
URL:https://4lobosy3000buitres.es/event/vi-trail-y-cross-nocturno-4-lobos-y-3000-buitres-22-de-junio
LOCATION:Serradilla\, Serradilla\, Serradilla\, Caceres\, 10530\, España
CATEGORIES:Carreras
ATTACH;FMTTYPE=image/jpeg:https://4lobosy3000buitres.es/wp-content/uploads/2023/12/CARTEL-TRAIL-Y-CROOS-NOCTURNO-NUEVO.jpg
ORGANIZER;CN="Club Deportivo 4 Lobos y 3000 Buitres":MAILTO:info@4lobosy3000buitres.es
END:VEVENT
BEGIN:VEVENT
DTSTART;VALUE=DATE:20240407
DTEND;VALUE=DATE:20240408
DTSTAMP:20260419T154222
CREATED:20240327T093131Z
LAST-MODIFIED:20240402T100831Z
UID:867-1712448000-1712534399@4lobosy3000buitres.es
SUMMARY:8ª EDICION BTT-XCM  7 ABRIL 2024
DESCRIPTION:BTT- MARATÓN XCM EXTREMADURA 2024-CAMPEONATO DE EXTREMADURA\n7 DE ABRIL DE 2024\nCLUB DEPORTIVO 4 LOBOS Y 3000 BUITRES-SERRADILLA (CÁCERES) \n  \n\n\n\n\n\nInscripciones aquí: ABRIR\nPuntos de Interes: Puntos de InterésBTT2024\nGestión Técnica de Bucles: GestiónTécnicaBucles para web\nReglamento Carrera Seguridad BTT: 16-REGLAMENTO CARRERA-SEGURIDAD BTT 2024\n07-Plano-Perfil-RutaCorta-46km-4Lobos\n11-Plano-Perfil-Maratón78km-4Lobos30-04-2023\nGUÍA TÉCNICA:GUIA_TÉCNICA_4_LOBOS_Y_3000_BUITRES\nTRACKS CARRERA FORMATO KMZ: BTT_RUTA_LARGA_2024\nTRACKS CARRERA FORMATO KMZ: RUTA CORTA 2024\nTRACKS MARTON EN FORMATO GPX: BTT MARATON GPX (2)\nTRACKS RUTA CORTA EN FORMATO GPX:COURSE_243635737-1 corta\nPuntos Avituallamiento ruta corta:08-AvituallamientoMecánicaRutaCortaBTT2024\nPuntos Avituallamiento Maratón:12-AvituallamientosMecánicaMaratónBTT2024\n09-RutometroRutaCortaBTT2024\n13-RutometroMaratónBTT2024\nPuede haber alguna modificación de última hora por motivos de anidación\,etc.\nTodos los participantes deberán tener  encuenta que el recorrido esta abierto a la circulación y se pueden encontrar vehículos y excursionistas\, sobre todo en la zona del recorrido de la Garganta del Fraile\nNuestras marcas de la carrera: Todo el recorrido está marcado con cinta blanca de la federación Extremeña de Ciclismo   y zonas de peligro con cinta roja\n\n\n\n\n\n\n \n \n\n           \n\n\n\n\n\n\n\n\n\n\n\n\n\n\n\nPROMOCIÓN:HASTA EL 14/02/2024 EL IMPORTE DE LA INSCRIPCIÓN TIENE UN DESCUENTO DE 4€\n\nCAMISETA TÉCNICA INCLUIDA EN INSCRIPCIÓN (las tallas se podrán elegir hasta el 18/03/2024)OPCIÓN PARA ACOMPAÑANTES DE RUTA SENDERISTA «LA GARGANTA DEL FRAILE». MEJOR RUTA SENDERISTA EN ESPAÑA 2022
URL:https://4lobosy3000buitres.es/event/8a-edicion-btt
LOCATION:Serradilla\, Serradilla\, Serradilla\, Caceres\, 10530\, España
CATEGORIES:BTT
ATTACH;FMTTYPE=image/jpeg:https://4lobosy3000buitres.es/wp-content/uploads/2023/12/CARTEL-XCM-2024-03-scaled.jpg
ORGANIZER;CN="Club Deportivo 4 Lobos y 3000 Buitres":MAILTO:info@4lobosy3000buitres.es
END:VEVENT
BEGIN:VEVENT
DTSTART;VALUE=DATE:20230610
DTEND;VALUE=DATE:20230612
DTSTAMP:20260419T154222
CREATED:20230323T180724Z
LAST-MODIFIED:20230526T100218Z
UID:603-1686355200-1686527999@4lobosy3000buitres.es
SUMMARY:VI TRAIL NOCTURNO 4 LOBOS Y 3000 BUITRES\, 10 DE JUNIO
DESCRIPTION:Inscripciones : SUSPENDIDAS \nReglamento Trail: 07-Reglam. Trail Nocturno 4 Lobos y 3000 Buitres 2023[14470] \nReglamento Cross:11-Reglamen Cross Nocturno 4 Lobos y 3000 Buitres 2023(14471) \nTraks: \nTrak Trail:TRAIL NOCTURNO 4 LOBOS Y 3000 BUITRES 2023 \nTrak Cross:CROSS NOCTURNO 4L Y 3000B 2023 \nInformación de la Prueba   \nLugar: Serradilla \nFecha:10 de Junio de 2023 Hora Salida: 22:00 \nFechas recogida de dorsales: 10/06/2023  desde las 20:00 hasta 21:30 horas \nRecorrido para las dos pruebas es: \nTrail: 22 km con un Desnivel de 805 metros D+ \nCross :8\,3 Km  con un desnivel de  409  metros D+ \nCategorias de los participantes en el Trail \n\nCategoría Joven Masculina (De 18 a 23 años) · Categoría Senior A Masculina (De 24 a 34 años) · Categoría Senior B Masculina (De 35 a 39 años) · Categoría Senior C Masculina (De 40 a 45 años) · Categoría Veteranos Masculina (De 46 a 50 años) · Categoría Superveteranos Masculina (De +50 años) · Categoría Joven Femenina (De 18 a 23 años) · Categoría SeniorA Femenina (De 24 a 34 años) · Categoría SeniorB Femenina (De 35 a 40 años) · Categoría Veteranas Femenina (De 41 a 45 años) · CategoríaSuper Veteranas (+45años)\n\nCategorias de los participantes en el Cross: \n\nCategoría Joven Masculina (De 18 a 23 años) · Categoría Sénior Masculina (De 24 a 39 años) · Categoría Veterano Masculina (De 40 en adelante) · Categoría Joven Femenina (De 18 a 23 años) · Categoría Sénior Femenina (De 24 a 39 años) · Categoría Veterano Femenina (De 40 en adelante)\n\nINFORMACIÓN DE LA INSCRIPCION  \nEl precio de participación en el Trail es de 30 euros para no federados\, y 25 Euros para federados. \nEl precio de participación es el Cross es de 25 euros para no federados\, y 20 Euros para federados \nFechas de inscripción: Del 03/04/2023 a las 0:00 al 31/05/2023 a las 14:00 \n 
URL:https://4lobosy3000buitres.es/event/vi-trail-nocturno-4-lobos-y-3000-buitres-10-de-junio
LOCATION:Serradilla\, Serradilla\, Serradilla\, Caceres\, 10530\, España
CATEGORIES:Carreras
ATTACH;FMTTYPE=image/jpeg:https://4lobosy3000buitres.es/wp-content/uploads/2023/03/CARTEL-TRAI-NOCTURNO-2023-06-10.jpeg
ORGANIZER;CN="Club Deportivo 4 Lobos y 3000 Buitres":MAILTO:info@4lobosy3000buitres.es
END:VEVENT
BEGIN:VEVENT
DTSTART;TZID=Europe/Paris:20230430T083000
DTEND;TZID=Europe/Paris:20230430T160000
DTSTAMP:20260419T154222
CREATED:20230217T155233Z
LAST-MODIFIED:20230503T170900Z
UID:12-1682843400-1682870400@4lobosy3000buitres.es
SUMMARY:7a Edición BTT - XCM
DESCRIPTION:BTT- MARATÓN XCM EXTREMADURA 2023-CAMPEONATO DE EXTREMADURA\n30 DE ABRIL DE 2023\nCLUB DEPORTIVO 4 LOBOS Y 3000 BUITRES-SERRADILLA (CÁCERES) \n  \n\n\n\nInscripciones aquí: Abrir\nReglamento de la carrera: Abrir\nDurante la prueba habrá  4 puntos de control  para la maratón\nDOSSIER TÉCNICO INFORMATIVO\n08-Plano-Perfil-Maratón71km-4Lobos30-04-2023\n06-Plano-Perfil-RutaCorta-48km-4Lobos30-04-2023\n10-Plano Avituallamientos-Ambulancias BTT2023[8205]\nTracks: version KMZ y GPX\nTrack 1 71 km 4 lobos y 3000 buitres D 1920D+\nTrack 1 GPX 4 Lobos 2023 Version 2 71km 1920D+\n4 Track 2 48 km 4 lobos y 3000 buitres\nTrack 2 GPX 4 Lobos 48 km ruta corta\nPuede haber alguna modificación de última hora por motivos de anidación\,etc.\nTodos los participantes deberán tener  encuenta que el recorrido esta abierto a la circulación y se pueden encontrar vehículos y excursionistas\, sobre todo en la zona del recorrido de la Garganta del Fraile\nNuestras marcas de la carrera: Todo el recorrido está marcado con cinta blanca de la federación Extremeña de Ciclismo   y zonas de peligro con cinta roja\n        \n\n\n\n  \n  \n  \n  \n  \n  \n  \n  \n  \n  \n  \n  \n  \n  \n  \n  \n  \n  \n  \n  \n  \n  \nPUNTOS DE INTERÉS-HORARIOS-PUNTOS KILOMÉTRICOS \npuntosdetalle[13734] \nINFORMACIÓN DE LA PRUEBA \nCategorías: Sub23 Fem.\, Sub-23\, Master 60 Fem.\, Master 60\, Master 50 Fem.\, Master 50\, Master 40 Fem.\, Master 40\, Master 30 Fem.\, Master 30\, Junior Fem.\, Junior\, Elite Fem.\, Élite\, Cicloturista Fem.\, Cicloturista\nLugar: SERRADILLA\nFecha : 30/04/2023 Hora Salida: 09:30\nFecha recogida de dorsales: 30/04/2023 desde 8:15 hasta 9:15\nOrganizador: 4 LOBOS Y 3000 BUITRES C.D. \nEl recorrido para las diferentes categorías para el Open XCM son: \nMARATÓN (71 Km): Sub-23\, élite\, master 30\, 40 y 50 (masculino y femenino). 5 avituallamientos (1 líquido/4 solido y líquido). \nRUTA CORTA (48 Km): Junior y master 60 (masculino y femenino). 3 avituallamiento (1 líquido/2 solido y líquido). \n  \nINFORMACIÓN DE LA INSCRIPCIÓN \nImporte de la inscripción 29\,00 € Federados – 37\,00 € No Federados\nLímite de participantes: 250 participantes\nProceso de inscripción: Formulario Inscripción web Federación\nFecha Límite de Inscripción: 27/04/2023 23:59:59 \n  \nOBSERVACIONES \nA PARTIR DEL 24/04/2023 (incluido) LAS INSCRIPCIONES AUMENTAN 5\,00€ \nCAMISETA INCLUIDA EN INSCRIPCIÓN (las tallas se podrán elegir hasta el 15/04/2023) \n \n  \n  \n  \n  \n  \n  \n  \n  \nOPCIÓN PARA ACOMPAÑANTES DE RUTA SENDERISTA «LA GARGANTA DEL FRAILE». MEJOR RUTA SENDERISTA EN ESPAÑA 2022 \nGuía de la marcha senderista (Culturas Primitivas) \n  \nMás información en la Web Federación \n 
URL:https://4lobosy3000buitres.es/event/7a-edicion-maraton
LOCATION:Serradilla\, Serradilla\, Serradilla\, Caceres\, 10530\, España
CATEGORIES:BTT
ATTACH;FMTTYPE=image/jpeg:https://4lobosy3000buitres.es/wp-content/uploads/2023/02/WhatsApp-Image-2023-03-01-at-11.53.53-1.jpeg
ORGANIZER;CN="Club Deportivo 4 Lobos y 3000 Buitres":MAILTO:info@4lobosy3000buitres.es
END:VEVENT
END:VCALENDAR